Workbook

Sheet Sheet1
A1: 附件
A2: 金华市深化医疗服务价格改革试点首轮动态调整医疗服务价格项目表
A3: 序号 | B3: 项目编码 | C3: 项目名称 | D3: 项目内涵 | E3: 除外内容 | F3: 计价单位 | G3: 三甲价格（元） | H3: 三乙价格（元） | I3: 二级及以下价格（元） | J3: 基层医疗机构价格（元） | K3: 备 注
A4: =MAX($A$3:A3)+1 -> 1 | B4: 12060000500 | C4: 拆线（大） | D4: 含换药，指7针及以上 | F4: 次 | G4: =VLOOKUP(B4,[1]金华!$D$13:$P$1160,13,FALSE) -> 38 | H4: =VLOOKUP(B4,[1]金华!$D$13:$Q$1160,14,FALSE) -> 38 | I4: =VLOOKUP(B4,[1]金华!$D$13:$R$1160,15,FALSE) -> 38 | J4: =VLOOKUP(B4,[3]金华!$D$13:$S$1160,16,FALSE) -> 34.2 | K4: 6周岁及以下儿童加收30%
A5: =MAX($A$3:A4)+1 -> 2 | B5: 12060000600 | C5: 拆线（中） | D5: 含换药，指3-6针 | F5: 次 | G5: =VLOOKUP(B5,[1]金华!$D$13:$P$1160,13,FALSE) -> 23 | H5: =VLOOKUP(B5,[1]金华!$D$13:$Q$1160,14,FALSE) -> 23 | I5: =VLOOKUP(B5,[1]金华!$D$13:$R$1160,15,FALSE) -> 23 | J5: =VLOOKUP(B5,[3]金华!$D$13:$S$1160,16,FALSE) -> 20.7 | K5: 6周岁及以下儿童加收30%
A6: =MAX($A$3:A5)+1 -> 3 | B6: 12060000700 | C6: 拆线（小） | D6: 含换药，指2针及以下 | F6: 次 | G6: =VLOOKUP(B6,[1]金华!$D$13:$P$1160,13,FALSE) -> 10.4 | H6: =VLOOKUP(B6,[1]金华!$D$13:$Q$1160,14,FALSE) -> 10.4 | I6: =VLOOKUP(B6,[1]金华!$D$13:$R$1160,15,FALSE) -> 10.4 | J6: =VLOOKUP(B6,[3]金华!$D$13:$S$1160,16,FALSE) -> 9.36 | K6: 6周岁及以下儿童加收30%
A7: =MAX($A$3:A6)+1 -> 4 | B7: 12060090100 | C7: 换药（空腔状或腔隙内创口） | F7: 次 | G7: =VLOOKUP(B7,[1]金华!$D$13:$P$1160,13,FALSE) -> 60.6 | H7: =VLOOKUP(B7,[1]金华!$D$13:$Q$1160,14,FALSE) -> 60.6 | I7: =VLOOKUP(B7,[1]金华!$D$13:$R$1160,15,FALSE) -> 60.6 | J7: =VLOOKUP(B7,[3]金华!$D$13:$S$1160,16,FALSE) -> 54.54 | K7: 6周岁及以下儿童加收30%
A8: =MAX($A$3:A7)+1 -> 5 | B8: 21010302100 | C8: 经内镜逆行胰胆管造影（ERCP） | D8: 含造影用各类导管 | F8: 人次 | G8: =VLOOKUP(B8,[1]金华!$D$13:$P$1160,13,FALSE) -> 849 | H8: =VLOOKUP(B8,[1]金华!$D$13:$Q$1160,14,FALSE) -> 849 | I8: =VLOOKUP(B8,[1]金华!$D$13:$R$1160,15,FALSE) -> 849 | J8: =VLOOKUP(B8,[3]金华!$D$13:$S$1160,16,FALSE) -> 764.1
A9: =MAX($A$3:A8)+1 -> 6 | B9: 24040000301 | C9: 组织间粒子植入 | E9: 插置针、粒子 | F9: 次 | G9: =VLOOKUP(B9,[1]金华!$D$13:$P$1160,13,FALSE) -> 426 | H9: =VLOOKUP(B9,[1]金华!$D$13:$Q$1160,14,FALSE) -> 426 | I9: =VLOOKUP(B9,[1]金华!$D$13:$R$1160,15,FALSE) -> 426 | J9: =VLOOKUP(B9,[3]金华!$D$13:$S$1160,16,FALSE) -> 383.4
A10: =MAX($A$3:A9)+1 -> 7 | B10: 25010203400 | C10: 尿红细胞位相 | F10: 项 | G10: =VLOOKUP(B10,[1]金华!$D$13:$P$1160,13,FALSE) -> 8.7 | H10: =VLOOKUP(B10,[1]金华!$D$13:$Q$1160,14,FALSE) -> 8.7 | I10: =VLOOKUP(B10,[1]金华!$D$13:$R$1160,15,FALSE) -> 8.7 | J10: =VLOOKUP(B10,[3]金华!$D$13:$S$1160,16,FALSE) -> 8.7
A11: =MAX($A$3:A10)+1 -> 8 | B11: 25020306600 | C11: 血浆D-二聚体测定（D-Dimer） | F11: 项 | G11: =VLOOKUP(B11,[1]金华!$D$13:$P$1160,13,FALSE) -> 47.5 | H11: =VLOOKUP(B11,[1]金华!$D$13:$Q$1160,14,FALSE) -> 47.5 | I11: =VLOOKUP(B11,[1]金华!$D$13:$R$1160,15,FALSE) -> 47.5 | J11: =VLOOKUP(B11,[3]金华!$D$13:$S$1160,16,FALSE) -> 47.5
A12: =MAX($A$3:A11)+1 -> 9 | B12: 25030100700 | C12: 血清转铁蛋白测定 | F12: 项 | G12: =VLOOKUP(B12,[1]金华!$D$13:$P$1160,13,FALSE) -> 7 | H12: =VLOOKUP(B12,[1]金华!$D$13:$Q$1160,14,FALSE) -> 7 | I12: =VLOOKUP(B12,[1]金华!$D$13:$R$1160,15,FALSE) -> 7 | J12: =VLOOKUP(B12,[3]金华!$D$13:$S$1160,16,FALSE) -> 7
A13: =MAX($A$3:A12)+1 -> 10 | B13: 25030101400 | C13: β2微球蛋白测定 | F13: 项 | G13: =VLOOKUP(B13,[1]金华!$D$13:$P$1160,13,FALSE) -> 17 | H13: =VLOOKUP(B13,[1]金华!$D$13:$Q$1160,14,FALSE) -> 17 | I13: =VLOOKUP(B13,[1]金华!$D$13:$R$1160,15,FALSE) -> 17 | J13: =VLOOKUP(B13,[3]金华!$D$13:$S$1160,16,FALSE) -> 17
A14: =MAX($A$3:A13)+1 -> 11 | B14: 25030101800 | C14: 视黄醇结合蛋白测定 | F14: 项 | G14: =VLOOKUP(B14,[1]金华!$D$13:$P$1160,13,FALSE) -> 17 | H14: =VLOOKUP(B14,[1]金华!$D$13:$Q$1160,14,FALSE) -> 17 | I14: =VLOOKUP(B14,[1]金华!$D$13:$R$1160,15,FALSE) -> 17 | J14: =VLOOKUP(B14,[3]金华!$D$13:$S$1160,16,FALSE) -> 17
A15: =MAX($A$3:A14)+1 -> 12 | B15: 25030200200 | C15: 血清果糖胺测定 | D15: 指糖化血清蛋白测定 | F15: 项 | G15: =VLOOKUP(B15,[1]金华!$D$13:$P$1160,13,FALSE) -> 5 | H15: =VLOOKUP(B15,[1]金华!$D$13:$Q$1160,14,FALSE) -> 5 | I15: =VLOOKUP(B15,[1]金华!$D$13:$R$1160,15,FALSE) -> 5 | J15: =VLOOKUP(B15,[3]金华!$D$13:$S$1160,16,FALSE) -> 5
A16: =MAX($A$3:A15)+1 -> 13 | B16: 25030300700 | C16: 血清载脂蛋白AⅠ测定 | F16: 项 | G16: =VLOOKUP(B16,[1]金华!$D$13:$P$1160,13,FALSE) -> 7 | H16: =VLOOKUP(B16,[1]金华!$D$13:$Q$1160,14,FALSE) -> 7 | I16: =VLOOKUP(B16,[1]金华!$D$13:$R$1160,15,FALSE) -> 7 | J16: =VLOOKUP(B16,[3]金华!$D$13:$S$1160,16,FALSE) -> 7
A17: =MAX($A$3:A16)+1 -> 14 | B17: 25030300900 | C17: 血清载脂蛋白B测定 | F17: 项 | G17: =VLOOKUP(B17,[1]金华!$D$13:$P$1160,13,FALSE) -> 7 | H17: =VLOOKUP(B17,[1]金华!$D$13:$Q$1160,14,FALSE) -> 7 | I17: =VLOOKUP(B17,[1]金华!$D$13:$R$1160,15,FALSE) -> 7 | J17: =VLOOKUP(B17,[3]金华!$D$13:$S$1160,16,FALSE) -> 7
A18: =MAX($A$3:A17)+1 -> 15 | B18: 25030301300 | C18: 血清载脂蛋白α测定 | F18: 项 | G18: =VLOOKUP(B18,[1]金华!$D$13:$P$1160,13,FALSE) -> 13 | H18: =VLOOKUP(B18,[1]金华!$D$13:$Q$1160,14,FALSE) -> 13 | I18: =VLOOKUP(B18,[1]金华!$D$13:$R$1160,15,FALSE) -> 13 | J18: =VLOOKUP(B18,[3]金华!$D$13:$S$1160,16,FALSE) -> 13
A19: =MAX($A$3:A18)+1 -> 16 | B19: 25030301400 | C19: 血清β-羟基丁酸测定 | F19: 项 | G19: =VLOOKUP(B19,[1]金华!$D$13:$P$1160,13,FALSE) -> 15 | H19: =VLOOKUP(B19,[1]金华!$D$13:$Q$1160,14,FALSE) -> 15 | I19: =VLOOKUP(B19,[1]金华!$D$13:$R$1160,15,FALSE) -> 15 | J19: =VLOOKUP(B19,[3]金华!$D$13:$S$1160,16,FALSE) -> 15
A20: =MAX($A$3:A19)+1 -> 17 | B20: 25030400400 | C20: 钙测定（急诊） | F20: 项 | G20: =VLOOKUP(B20,[1]金华!$D$13:$P$1160,13,FALSE) -> 10 | H20: =VLOOKUP(B20,[1]金华!$D$13:$Q$1160,14,FALSE) -> 10 | I20: =VLOOKUP(B20,[1]金华!$D$13:$R$1160,15,FALSE) -> 10 | J20: =VLOOKUP(B20,[3]金华!$D$13:$S$1160,16,FALSE) -> 10 | K20: 半小时内出具检测结果
A21: =MAX($A$3:A20)+1 -> 18 | B21: 25030400900 | C21: 全血铅测定 | F21: 项 | G21: 11.3 | H21: 11.3 | I21: 11.3 | J21: =VLOOKUP(B21,[3]金华!$D$13:$S$1160,16,FALSE) -> 11.3
A22: =MAX($A$3:A21)+1 -> 19 | B22: 25030401000 | C22: 血清碳酸氢盐（HCO3）测定（急诊） | F22: 次 | G22: =VLOOKUP(B22,[1]金华!$D$13:$P$1160,13,FALSE) -> 10 | H22: =VLOOKUP(B22,[1]金华!$D$13:$Q$1160,14,FALSE) -> 10 | I22: =VLOOKUP(B22,[1]金华!$D$13:$R$1160,15,FALSE) -> 10 | J22: =VLOOKUP(B22,[3]金华!$D$13:$S$1160,16,FALSE) -> 10 | K22: 半小时内出具检测结果
A23: =MAX($A$3:A22)+1 -> 20 | B23: 25030501700 | C23: 血清α-L-岩藻糖苷酶测定 | F23: 项 | G23: =VLOOKUP(B23,[1]金华!$D$13:$P$1160,13,FALSE) -> 8.9 | H23: =VLOOKUP(B23,[1]金华!$D$13:$Q$1160,14,FALSE) -> 8.9 | I23: =VLOOKUP(B23,[1]金华!$D$13:$R$1160,15,FALSE) -> 8.9 | J23: =VLOOKUP(B23,[3]金华!$D$13:$S$1160,16,FALSE) -> 8.9
A24: =MAX($A$3:A23)+1 -> 21 | B24: 25030501800 | C24: 血清Ⅳ型胶原测定 | F24: 项 | G24: =VLOOKUP(B24,[1]金华!$D$13:$P$1160,13,FALSE) -> 34 | H24: =VLOOKUP(B24,[1]金华!$D$13:$Q$1160,14,FALSE) -> 34 | I24: =VLOOKUP(B24,[1]金华!$D$13:$R$1160,15,FALSE) -> 34 | J24: =VLOOKUP(B24,[3]金华!$D$13:$S$1160,16,FALSE) -> 34
A25: =MAX($A$3:A24)+1 -> 22 | B25: 25030501900 | C25: 血清Ⅲ型胶原测定 | F25: 项 | G25: =VLOOKUP(B25,[1]金华!$D$13:$P$1160,13,FALSE) -> 34 | H25: =VLOOKUP(B25,[1]金华!$D$13:$Q$1160,14,FALSE) -> 34 | I25: =VLOOKUP(B25,[1]金华!$D$13:$R$1160,15,FALSE) -> 34 | J25: =VLOOKUP(B25,[3]金华!$D$13:$S$1160,16,FALSE) -> 34
A26: =MAX($A$3:A25)+1 -> 23 | B26: 25030502000 | C26: 血清层粘连蛋白测定 | F26: 项 | G26: =VLOOKUP(B26,[1]金华!$D$13:$P$1160,13,FALSE) -> 34 | H26: =VLOOKUP(B26,[1]金华!$D$13:$Q$1160,14,FALSE) -> 34 | I26: =VLOOKUP(B26,[1]金华!$D$13:$R$1160,15,FALSE) -> 34 | J26: =VLOOKUP(B26,[3]金华!$D$13:$S$1160,16,FALSE) -> 34
A27: =MAX($A$3:A26)+1 -> 24 | B27: 25030502200 | C27: 血清透明质酸酶测定 | F27: 项 | G27: =VLOOKUP(B27,[1]金华!$D$13:$P$1160,13,FALSE) -> 34 | H27: =VLOOKUP(B27,[1]金华!$D$13:$Q$1160,14,FALSE) -> 34 | I27: =VLOOKUP(B27,[1]金华!$D$13:$R$1160,15,FALSE) -> 34 | J27: =VLOOKUP(B27,[3]金华!$D$13:$S$1160,16,FALSE) -> 34
A28: =MAX($A$3:A27)+1 -> 25 | B28: 25030502300 | C28: 腺苷脱氨酶测定 | F28: 项 | G28: =VLOOKUP(B28,[1]金华!$D$13:$P$1160,13,FALSE) -> 8.8 | H28: =VLOOKUP(B28,[1]金华!$D$13:$Q$1160,14,FALSE) -> 8.8 | I28: =VLOOKUP(B28,[1]金华!$D$13:$R$1160,15,FALSE) -> 8.8 | J28: =VLOOKUP(B28,[3]金华!$D$13:$S$1160,16,FALSE) -> 8.8
A29: =MAX($A$3:A28)+1 -> 26 | B29: 25030502401 | C29: 甘氨酰脯氨酸二肽氨基肽酶测定 | F29: 项 | G29: =VLOOKUP(B29,[1]金华!$D$13:$P$1160,13,FALSE) -> 9 | H29: =VLOOKUP(B29,[1]金华!$D$13:$Q$1160,14,FALSE) -> 9 | I29: =VLOOKUP(B29,[1]金华!$D$13:$R$1160,15,FALSE) -> 9 | J29: =VLOOKUP(B29,[3]金华!$D$13:$S$1160,16,FALSE) -> 9
A30: =MAX($A$3:A29)+1 -> 27 | B30: 25030601000 | C30: 血清肌红蛋白测定 | F30: 项 | G30: =VLOOKUP(B30,[1]金华!$D$13:$P$1160,13,FALSE) -> 18 | H30: =VLOOKUP(B30,[1]金华!$D$13:$Q$1160,14,FALSE) -> 18 | I30: =VLOOKUP(B30,[1]金华!$D$13:$R$1160,15,FALSE) -> 18 | J30: =VLOOKUP(B30,[3]金华!$D$13:$S$1160,16,FALSE) -> 18
A31: =MAX($A$3:A30)+1 -> 28 | B31: 25030700700 | C31: 尿转铁蛋白测定 | F31: 项 | G31: =VLOOKUP(B31,[1]金华!$D$13:$P$1160,13,FALSE) -> 8.9 | H31: =VLOOKUP(B31,[1]金华!$D$13:$Q$1160,14,FALSE) -> 8.9 | I31: =VLOOKUP(B31,[1]金华!$D$13:$R$1160,15,FALSE) -> 8.9 | J31: =VLOOKUP(B31,[3]金华!$D$13:$S$1160,16,FALSE) -> 8.9 | K31: 报告尿TF/gCr比值时应另加收尿肌酐测定费用
A32: =MAX($A$3:A31)+1 -> 29 | B32: 25030800700 | C32: 血清血管紧张转化酶测定 | F32: 项 | G32: =VLOOKUP(B32,[1]金华!$D$13:$P$1160,13,FALSE) -> 13 | H32: =VLOOKUP(B32,[1]金华!$D$13:$Q$1160,14,FALSE) -> 13 | I32: =VLOOKUP(B32,[1]金华!$D$13:$R$1160,15,FALSE) -> 13 | J32: =VLOOKUP(B32,[3]金华!$D$13:$S$1160,16,FALSE) -> 13
A33: =MAX($A$3:A32)+1 -> 30 | B33: 25030900300 | C33: 叶酸测定 | F33: 项 | G33: =VLOOKUP(B33,[1]金华!$D$13:$P$1160,13,FALSE) -> 32 | H33: =VLOOKUP(B33,[1]金华!$D$13:$Q$1160,14,FALSE) -> 32 | I33: =VLOOKUP(B33,[1]金华!$D$13:$R$1160,15,FALSE) -> 32 | J33: =VLOOKUP(B33,[3]金华!$D$13:$S$1160,16,FALSE) -> 32
A34: =MAX($A$3:A33)+1 -> 31 | B34: 25030900500 | C34: 血清药物浓度测定 | F34: 每种药 | G34: =VLOOKUP(B34,[1]金华!$D$13:$P$1160,13,FALSE) -> 60 | H34: =VLOOKUP(B34,[1]金华!$D$13:$Q$1160,14,FALSE) -> 60 | I34: =VLOOKUP(B34,[1]金华!$D$13:$R$1160,15,FALSE) -> 60 | J34: =VLOOKUP(B34,[3]金华!$D$13:$S$1160,16,FALSE) -> 60
A35: =MAX($A$3:A34)+1 -> 32 | B35: 25030900502 | C35: 环孢霉素-A血清药物浓度测定 | F35: 每种药 | G35: =VLOOKUP(B35,[1]金华!$D$13:$P$1160,13,FALSE) -> 170 | H35: =VLOOKUP(B35,[1]金华!$D$13:$Q$1160,14,FALSE) -> 170 | I35: =VLOOKUP(B35,[1]金华!$D$13:$R$1160,15,FALSE) -> 170 | J35: =VLOOKUP(B35,[3]金华!$D$13:$S$1160,16,FALSE) -> 170
A36: =MAX($A$3:A35)+1 -> 33 | B36: 25031000300 | C36: 血清生长激素测定 | F36: 项 | G36: =VLOOKUP(B36,[1]金华!$D$13:$P$1160,13,FALSE) -> 27 | H36: =VLOOKUP(B36,[1]金华!$D$13:$Q$1160,14,FALSE) -> 27 | I36: =VLOOKUP(B36,[1]金华!$D$13:$R$1160,15,FALSE) -> 27 | J36: =VLOOKUP(B36,[3]金华!$D$13:$S$1160,16,FALSE) -> 27
A37: =MAX($A$3:A36)+1 -> 34 | B37: 25031003300 | C37: 17α羟孕酮测定 | F37: 项 | G37: =VLOOKUP(B37,[1]金华!$D$13:$P$1160,13,FALSE) -> 23 | H37: =VLOOKUP(B37,[1]金华!$D$13:$Q$1160,14,FALSE) -> 23 | I37: =VLOOKUP(B37,[1]金华!$D$13:$R$1160,15,FALSE) -> 23 | J37: =VLOOKUP(B37,[3]金华!$D$13:$S$1160,16,FALSE) -> 23
A38: =MAX($A$3:A37)+1 -> 35 | B38: 25031003900 | C38: 血清胰岛素测定 | F38: 项 | G38: =VLOOKUP(B38,[1]金华!$D$13:$P$1160,13,FALSE) -> 17 | H38: =VLOOKUP(B38,[1]金华!$D$13:$Q$1160,14,FALSE) -> 17 | I38: =VLOOKUP(B38,[1]金华!$D$13:$R$1160,15,FALSE) -> 17 | J38: =VLOOKUP(B38,[3]金华!$D$13:$S$1160,16,FALSE) -> 17
A39: =MAX($A$3:A38)+1 -> 36 | B39: 25031004100 | C39: 血清C肽测定 | F39: 项 | G39: =VLOOKUP(B39,[1]金华!$D$13:$P$1160,13,FALSE) -> 32 | H39: =VLOOKUP(B39,[1]金华!$D$13:$Q$1160,14,FALSE) -> 32 | I39: =VLOOKUP(B39,[1]金华!$D$13:$R$1160,15,FALSE) -> 32 | J39: =VLOOKUP(B39,[3]金华!$D$13:$S$1160,16,FALSE) -> 32
A40: =MAX($A$3:A39)+1 -> 37 | B40: 25031004300 | C40: 血清抗谷氨酸脱羧酶抗体测定 | F40: 项 | G40: =VLOOKUP(B40,[1]金华!$D$13:$P$1160,13,FALSE) -> 32 | H40: =VLOOKUP(B40,[1]金华!$D$13:$Q$1160,14,FALSE) -> 32 | I40: =VLOOKUP(B40,[1]金华!$D$13:$R$1160,15,FALSE) -> 32 | J40: =VLOOKUP(B40,[3]金华!$D$13:$S$1160,16,FALSE) -> 32
...
