Workbook

Sheet Sheet1
A1: 附件
A2: 金华市深化医疗服务价格改革试点首轮动态调整医疗服务价格项目表
A3: 序号 | B3: 项目编码 | C3: 项目名称 | D3: 项目内涵 | E3: 除外内容 | F3: 计价单位 | G3: 三甲价格（元） | H3: 三乙价格（元） | I3: 二级及以下价格（元） | J3: 基层医疗机构价格（元） | K3: 备 注
A4: =MAX($A$3:A3)+1 -> 1 | B4: 12060000500 | C4: 拆线（大） | D4: 含换药，指7针及以上 | F4: 次 | G4: =VLOOKUP(B4,[1]金华!$D$13:$P$1160,13,FALSE) -> 38 | H4: =VLOOKUP(B4,[1]金华!$D$13:$Q$1160,14,FALSE) -> 38 | I4: =VLOOKUP(B4,[1]金华!$D$13:$R$1160,15,FALSE) -> 38 | J4: =VLOOKUP(B4,[3]金华!$D$13:$S$1160,16,FALSE) -> 34.2 | K4: 6周岁及以下儿童加收30%
A5: =MAX($A$3:A4)+1 -> 2 | B5: 12060000600 | C5: 拆线（中） | D5: 含换药，指3-6针 | F5: 次 | G5: =VLOOKUP(B5,[1]金华!$D$13:$P$1160,13,FALSE) -> 23 | H5: =VLOOKUP(B5,[1]金华!$D$13:$Q$1160,14,FALSE) -> 23 | I5: =VLOOKUP(B5,[1]金华!$D$13:$R$1160,15,FALSE) -> 23 | J5: =VLOOKUP(B5,[3]金华!$D$13:$S$1160,16,FALSE) -> 20.7 | K5: 6周岁及以下儿童加收30%
A6: =MAX($A$3:A5)+1 -> 3 | B6: 12060000700 | C6: 拆线（小） | D6: 含换药，指2针及以下 | F6: 次 | G6: =VLOOKUP(B6,[1]金华!$D$13:$P$1160,13,FALSE) -> 10.4 | H6: =VLOOKUP(B6,[1]金华!$D$13:$Q$1160,14,FALSE) -> 10.4 | I6: =VLOOKUP(B6,[1]金华!$D$13:$R$1160,15,FALSE) -> 10.4 | J6: =VLOOKUP(B6,[3]金华!$D$13:$S$1160,16,FALSE) -> 9.36 | K6: 6周岁及以下儿童加收30%
A7: =MAX($A$3:A6)+1 -> 4 | B7: 12060090100 | C7: 换药（空腔状或腔隙内创口） | F7: 次 | G7: =VLOOKUP(B7,[1]金华!$D$13:$P$1160,13,FALSE) -> 60.6 | H7: =VLOOKUP(B7,[1]金华!$D$13:$Q$1160,14,FALSE) -> 60.6 | I7: =VLOOKUP(B7,[1]金华!$D$13:$R$1160,15,FALSE) -> 60.6 | J7: =VLOOKUP(B7,[3]金华!$D$13:$S$1160,16,FALSE) -> 54.54 | K7: 6周岁及以下儿童加收30%
A8: =MAX($A$3:A7)+1 -> 5 | B8: 21010302100 | C8: 经内镜逆行胰胆管造影（ERCP） | D8: 含造影用各类导管 | F8: 人次 | G8: =VLOOKUP(B8,[1]金华!$D$13:$P$1160,13,FALSE) -> 849 | H8: =VLOOKUP(B8,[1]金华!$D$13:$Q$1160,14,FALSE) -> 849 | I8: =VLOOKUP(B8,[1]金华!$D$13:$R$1160,15,FALSE) -> 849 | J8: =VLOOKUP(B8,[3]金华!$D$13:$S$1160,16,FALSE) -> 764.1
A9: =MAX($A$3:A8)+1 -> 6 | B9: 24040000301 | C9: 组织间粒子植入 | E9: 插置针、粒子 | F9: 次 | G9: =VLOOKUP(B9,[1]金华!$D$13:$P$1160,13,FALSE) -> 426 | H9: =VLOOKUP(B9,[1]金华!$D$13:$Q$1160,14,FALSE) -> 426 | I9: =VLOOKUP(B9,[1]金华!$D$13:$R$1160,15,FALSE) -> 426 | J9: =VLOOKUP(B9,[3]金华!$D$13:$S$1160,16,FALSE) -> 383.4
A10: =MAX($A$3:A9)+1 -> 7 | B10: 25010203400 | C10: 尿红细胞位相 | F10: 项 | G10: =VLOOKUP(B10,[1]金华!$D$13:$P$1160,13,FALSE) -> 8.7 | H10: =VLOOKUP(B10,[1]金华!$D$13:$Q$1160,14,FALSE) -> 8.7 | I10: =VLOOKUP(B10,[1]金华!$D$13:$R$1160,15,FALSE) -> 8.7 | J10: =VLOOKUP(B10,[3]金华!$D$13:$S$1160,16,FALSE) -> 8.7
A11: =MAX($A$3:A10)+1 -> 8 | B11: 25020306600 | C11: 血浆D-二聚体测定（D-Dimer） | F11: 项 | G11: =VLOOKUP(B11,[1]金华!$D$13:$P$1160,13,FALSE) -> 47.5 | H11: =VLOOKUP(B11,[1]金华!$D$13:$Q$1160,14,FALSE) -> 47.5 | I11: =VLOOKUP(B11,[1]金华!$D$13:$R$1160,15,FALSE) -> 47.5 | J11: =VLOOKUP(B11,[3]金华!$D$13:$S$1160,16,FALSE) -> 47.5
A12: =MAX($A$3:A11)+1 -> 9 | B12: 25030100700 | C12: 血清转铁蛋白测定 | F12: 项 | G12: =VLOOKUP(B12,[1]金华!$D$13:$P$1160,13,FALSE) -> 7 | H12: =VLOOKUP(B12,[1]金华!$D$13:$Q$1160,14,FALSE) -> 7 | I12: =VLOOKUP(B12,[1]金华!$D$13:$R$1160,15,FALSE) -> 7 | J12: =VLOOKUP(B12,[3]金华!$D$13:$S$1160,16,FALSE) -> 7
A13: =MAX($A$3:A12)+1 -> 10 | B13: 25030101400 | C13: β2微球蛋白测定 | F13: 项 | G13: =VLOOKUP(B13,[1]金华!$D$13:$P$1160,13,FALSE) -> 17 | H13: =VLOOKUP(B13,[1]金华!$D$13:$Q$1160,14,FALSE) -> 17 | I13: =VLOOKUP(B13,[1]金华!$D$13:$R$1160,15,FALSE) -> 17 | J13: =VLOOKUP(B13,[3]金华!$D$13:$S$1160,16,FALSE) -> 17
A14: =MAX($A$3:A13)+1 -> 11 | B14: 25030101800 | C14: 视黄醇结合蛋白测定 | F14: 项 | G14: =VLOOKUP(B14,[1]金华!$D$13:$P$1160,13,FALSE) -> 17 | H14: =VLOOKUP(B14,[1]金华!$D$13:$Q$1160,14,FALSE) -> 17 | I14: =VLOOKUP(B14,[1]金华!$D$13:$R$1160,15,FALSE) -> 17 | J14: =VLOOKUP(B14,[3]金华!$D$13:$S$1160,16,FALSE) -> 17
A15: =MAX($A$3:A14)+1 -> 12 | B15: 25030200200 | C15: 血清果糖胺测定 | D15: 指糖化血清蛋白测定 | F15: 项 | G15: =VLOOKUP(B15,[1]金华!$D$13:$P$1160,13,FALSE) -> 5 | H15: =VLOOKUP(B15,[1]金华!$D$13:$Q$1160,14,FALSE) -> 5 | I15: =VLOOKUP(B15,[1]金华!$D$13:$R$1160,15,FALSE) -> 5 | J15: =VLOOKUP(B15,[3]金华!$D$13:$S$1160,16,FALSE) -> 5
A16: =MAX($A$3:A15)+1 -> 13 | B16: 25030300700 | C16: 血清载脂蛋白AⅠ测定 | F16: 项 | G16: =VLOOKUP(B16,[1]金华!$D$13:$P$1160,13,FALSE) -> 7 | H16: =VLOOKUP(B16,[1]金华!$D$13:$Q$1160,14,FALSE) -> 7 | I16: =VLOOKUP(B16,[1]金华!$D$13:$R$1160,15,FALSE) -> 7 | J16: =VLOOKUP(B16,[3]金华!$D$13:$S$1160,16,FALSE) -> 7
A17: =MAX($A$3:A16)+1 -> 14 | B17: 25030300900 | C17: 血清载脂蛋白B测定 | F17: 项 | G17: =VLOOKUP(B17,[1]金华!$D$13:$P$1160,13,FALSE) -> 7 | H17: =VLOOKUP(B17,[1]金华!$D$13:$Q$1160,14,FALSE) -> 7 | I17: =VLOOKUP(B17,[1]金华!$D$13:$R$1160,15,FALSE) -> 7 | J17: =VLOOKUP(B17,[3]金华!$D$13:$S$1160,16,FALSE) -> 7
A18: =MAX($A$3:A17)+1 -> 15 | B18: 25030301300 | C18: 血清载脂蛋白α测定 | F18: 项 | G18: =VLOOKUP(B18,[1]金华!$D$13:$P$1160,13,FALSE) -> 13 | H18: =VLOOKUP(B18,[1]金华!$D$13:$Q$1160,14,FALSE) -> 13 | I18: =VLOOKUP(B18,[1]金华!$D$13:$R$1160,15,FALSE) -> 13 | J18: =VLOOKUP(B18,[3]金华!$D$13:$S$1160,16,FALSE) -> 13
A19: =MAX($A$3:A18)+1 -> 16 | B19: 25030301400 | C19: 血清β-羟基丁酸测定 | F19: 项 | G19: =VLOOKUP(B19,[1]金华!$D$13:$P$1160,13,FALSE) -> 15 | H19: =VLOOKUP(B19,[1]金华!$D$13:$Q$1160,14,FALSE) -> 15 | I19: =VLOOKUP(B19,[1]金华!$D$13:$R$1160,15,FALSE) -> 15 | J19: =VLOOKUP(B19,[3]金华!$D$13:$S$1160,16,FALSE) -> 15
A20: =MAX($A$3:A19)+1 -> 17 | B20: 25030400400 | C20: 钙测定（急诊） | F20: 项 | G20: =VLOOKUP(B20,[1]金华!$D$13:$P$1160,13,FALSE) -> 10 | H20: =VLOOKUP(B20,[1]金华!$D$13:$Q$1160,14,FALSE) -> 10 | I20: =VLOOKUP(B20,[1]金华!$D$13:$R$1160,15,FALSE) -> 10 | J20: =VLOOKUP(B20,[3]金华!$D$13:$S$1160,16,FALSE) -> 10 | K20: 半小时内出具检测结果
A21: =MAX($A$3:A20)+1 -> 18 | B21: 25030400900 | C21: 全血铅测定 | F21: 项 | G21: 11.3 | H21: 11.3 | I21: 11.3 | J21: =VLOOKUP(B21,[3]金华!$D$13:$S$1160,16,FALSE) -> 11.3
A22: =MAX($A$3:A21)+1 -> 19 | B22: 25030401000 | C22: 血清碳酸氢盐（HCO3）测定（急诊） | F22: 次 | G22: =VLOOKUP(B22,[1]金华!$D$13:$P$1160,13,FALSE) -> 10 | H22: =VLOOKUP(B22,[1]金华!$D$13:$Q$1160,14,FALSE) -> 10 | I22: =VLOOKUP(B22,[1]金华!$D$13:$R$1160,15,FALSE) -> 10 | J22: =VLOOKUP(B22,[3]金华!$D$13:$S$1160,16,FALSE) -> 10 | K22: 半小时内出具检测结果
A23: =MAX($A$3:A22)+1 -> 20 | B23: 25030501700 | C23: 血清α-L-岩藻糖苷酶测定 | F23: 项 | G23: =VLOOKUP(B23,[1]金华!$D$13:$P$1160,13,FALSE) -> 8.9 | H23: =VLOOKUP(B23,[1]金华!$D$13:$Q$1160,14,FALSE) -> 8.9 | I23: =VLOOKUP(B23,[1]金华!$D$13:$R$1160,15,FALSE) -> 8.9 | J23: =VLOOKUP(B23,[3]金华!$D$13:$S$1160,16,FALSE) -> 8.9
A24: =MAX($A$3:A23)+1 -> 21 | B24: 25030501800 | C24: 血清Ⅳ型胶原测定 | F24: 项 | G24: =VLOOKUP(B24,[1]金华!$D$13:$P$1160,13,FALSE) -> 34 | H24: =VLOOKUP(B24,[1]金华!$D$13:$Q$1160,14,FALSE) -> 34 | I24: =VLOOKUP(B24,[1]金华!$D$13:$R$1160,15,FALSE) -> 34 | J24: =VLOOKUP(B24,[3]金华!$D$13:$S$1160,16,FALSE) -> 34
A25: =MAX($A$3:A24)+1 -> 22 | B25: 25030501900 | C25: 血清Ⅲ型胶原测定 | F25: 项 | G25: =VLOOKUP(B25,[1]金华!$D$13:$P$1160,13,FALSE) -> 34 | H25: =VLOOKUP(B25,[1]金华!$D$13:$Q$1160,14,FALSE) -> 34 | I25: =VLOOKUP(B25,[1]金华!$D$13:$R$1160,15,FALSE) -> 34 | J25: =VLOOKUP(B25,[3]金华!$D$13:$S$1160,16,FALSE) -> 34
A26: =MAX($A$3:A25)+1 -> 23 | B26: 25030502000 | C26: 血清层粘连蛋白测定 | F26: 项 | G26: =VLOOKUP(B26,[1]金华!$D$13:$P$1160,13,FALSE) -> 34 | H26: =VLOOKUP(B26,[1]金华!$D$13:$Q$1160,14,FALSE) -> 34 | I26: =VLOOKUP(B26,[1]金华!$D$13:$R$1160,15,FALSE) -> 34 | J26: =VLOOKUP(B26,[3]金华!$D$13:$S$1160,16,FALSE) -> 34
A27: =MAX($A$3:A26)+1 -> 24 | B27: 25030502200 | C27: 血清透明质酸酶测定 | F27: 项 | G27: =VLOOKUP(B27,[1]金华!$D$13:$P$1160,13,FALSE) -> 34 | H27: =VLOOKUP(B27,[1]金华!$D$13:$Q$1160,14,FALSE) -> 34 | I27: =VLOOKUP(B27,[1]金华!$D$13:$R$1160,15,FALSE) -> 34 | J27: =VLOOKUP(B27,[3]金华!$D$13:$S$1160,16,FALSE) -> 34
A28: =MAX($A$3:A27)+1 -> 25 | B28: 25030502300 | C28: 腺苷脱氨酶测定 | F28: 项 | G28: =VLOOKUP(B28,[1]金华!$D$13:$P$1160,13,FALSE) -> 8.8 | H28: =VLOOKUP(B28,[1]金华!$D$13:$Q$1160,14,FALSE) -> 8.8 | I28: =VLOOKUP(B28,[1]金华!$D$13:$R$1160,15,FALSE) -> 8.8 | J28: =VLOOKUP(B28,[3]金华!$D$13:$S$1160,16,FALSE) -> 8.8
A29: =MAX($A$3:A28)+1 -> 26 | B29: 25030502401 | C29: 甘氨酰脯氨酸二肽氨基肽酶测定 | F29: 项 | G29: =VLOOKUP(B29,[1]金华!$D$13:$P$1160,13,FALSE) -> 9 | H29: =VLOOKUP(B29,[1]金华!$D$13:$Q$1160,14,FALSE) -> 9 | I29: =VLOOKUP(B29,[1]金华!$D$13:$R$1160,15,FALSE) -> 9 | J29: =VLOOKUP(B29,[3]金华!$D$13:$S$1160,16,FALSE) -> 9
A30: =MAX($A$3:A29)+1 -> 27 | B30: 25030601000 | C30: 血清肌红蛋白测定 | F30: 项 | G30: =VLOOKUP(B30,[1]金华!$D$13:$P$1160,13,FALSE) -> 18 | H30: =VLOOKUP(B30,[1]金华!$D$13:$Q$1160,14,FALSE) -> 18 | I30: =VLOOKUP(B30,[1]金华!$D$13:$R$1160,15,FALSE) -> 18 | J30: =VLOOKUP(B30,[3]金华!$D$13:$S$1160,16,FALSE) -> 18
A31: =MAX($A$3:A30)+1 -> 28 | B31: 25030700700 | C31: 尿转铁蛋白测定 | F31: 项 | G31: =VLOOKUP(B31,[1]金华!$D$13:$P$1160,13,FALSE) -> 8.9 | H31: =VLOOKUP(B31,[1]金华!$D$13:$Q$1160,14,FALSE) -> 8.9 | I31: =VLOOKUP(B31,[1]金华!$D$13:$R$1160,15,FALSE) -> 8.9 | J31: =VLOOKUP(B31,[3]金华!$D$13:$S$1160,16,FALSE) -> 8.9 | K31: 报告尿TF/gCr比值时应另加收尿肌酐测定费用
A32: =MAX($A$3:A31)+1 -> 29 | B32: 25030800700 | C32: 血清血管紧张转化酶测定 | F32: 项 | G32: =VLOOKUP(B32,[1]金华!$D$13:$P$1160,13,FALSE) -> 13 | H32: =VLOOKUP(B32,[1]金华!$D$13:$Q$1160,14,FALSE) -> 13 | I32: =VLOOKUP(B32,[1]金华!$D$13:$R$1160,15,FALSE) -> 13 | J32: =VLOOKUP(B32,[3]金华!$D$13:$S$1160,16,FALSE) -> 13
A33: =MAX($A$3:A32)+1 -> 30 | B33: 25030900300 | C33: 叶酸测定 | F33: 项 | G33: =VLOOKUP(B33,[1]金华!$D$13:$P$1160,13,FALSE) -> 32 | H33: =VLOOKUP(B33,[1]金华!$D$13:$Q$1160,14,FALSE) -> 32 | I33: =VLOOKUP(B33,[1]金华!$D$13:$R$1160,15,FALSE) -> 32 | J33: =VLOOKUP(B33,[3]金华!$D$13:$S$1160,16,FALSE) -> 32
A34: =MAX($A$3:A33)+1 -> 31 | B34: 25030900500 | C34: 血清药物浓度测定 | F34: 每种药 | G34: =VLOOKUP(B34,[1]金华!$D$13:$P$1160,13,FALSE) -> 60 | H34: =VLOOKUP(B34,[1]金华!$D$13:$Q$1160,14,FALSE) -> 60 | I34: =VLOOKUP(B34,[1]金华!$D$13:$R$1160,15,FALSE) -> 60 | J34: =VLOOKUP(B34,[3]金华!$D$13:$S$1160,16,FALSE) -> 60
A35: =MAX($A$3:A34)+1 -> 32 | B35: 25030900502 | C35: 环孢霉素-A血清药物浓度测定 | F35: 每种药 | G35: =VLOOKUP(B35,[1]金华!$D$13:$P$1160,13,FALSE) -> 170 | H35: =VLOOKUP(B35,[1]金华!$D$13:$Q$1160,14,FALSE) -> 170 | I35: =VLOOKUP(B35,[1]金华!$D$13:$R$1160,15,FALSE) -> 170 | J35: =VLOOKUP(B35,[3]金华!$D$13:$S$1160,16,FALSE) -> 170
A36: =MAX($A$3:A35)+1 -> 33 | B36: 25031000300 | C36: 血清生长激素测定 | F36: 项 | G36: =VLOOKUP(B36,[1]金华!$D$13:$P$1160,13,FALSE) -> 27 | H36: =VLOOKUP(B36,[1]金华!$D$13:$Q$1160,14,FALSE) -> 27 | I36: =VLOOKUP(B36,[1]金华!$D$13:$R$1160,15,FALSE) -> 27 | J36: =VLOOKUP(B36,[3]金华!$D$13:$S$1160,16,FALSE) -> 27
A37: =MAX($A$3:A36)+1 -> 34 | B37: 25031003300 | C37: 17α羟孕酮测定 | F37: 项 | G37: =VLOOKUP(B37,[1]金华!$D$13:$P$1160,13,FALSE) -> 23 | H37: =VLOOKUP(B37,[1]金华!$D$13:$Q$1160,14,FALSE) -> 23 | I37: =VLOOKUP(B37,[1]金华!$D$13:$R$1160,15,FALSE) -> 23 | J37: =VLOOKUP(B37,[3]金华!$D$13:$S$1160,16,FALSE) -> 23
A38: =MAX($A$3:A37)+1 -> 35 | B38: 25031003900 | C38: 血清胰岛素测定 | F38: 项 | G38: =VLOOKUP(B38,[1]金华!$D$13:$P$1160,13,FALSE) -> 17 | H38: =VLOOKUP(B38,[1]金华!$D$13:$Q$1160,14,FALSE) -> 17 | I38: =VLOOKUP(B38,[1]金华!$D$13:$R$1160,15,FALSE) -> 17 | J38: =VLOOKUP(B38,[3]金华!$D$13:$S$1160,16,FALSE) -> 17
A39: =MAX($A$3:A38)+1 -> 36 | B39: 25031004100 | C39: 血清C肽测定 | F39: 项 | G39: =VLOOKUP(B39,[1]金华!$D$13:$P$1160,13,FALSE) -> 32 | H39: =VLOOKUP(B39,[1]金华!$D$13:$Q$1160,14,FALSE) -> 32 | I39: =VLOOKUP(B39,[1]金华!$D$13:$R$1160,15,FALSE) -> 32 | J39: =VLOOKUP(B39,[3]金华!$D$13:$S$1160,16,FALSE) -> 32
A40: =MAX($A$3:A39)+1 -> 37 | B40: 25031004300 | C40: 血清抗谷氨酸脱羧酶抗体测定 | F40: 项 | G40: =VLOOKUP(B40,[1]金华!$D$13:$P$1160,13,FALSE) -> 32 | H40: =VLOOKUP(B40,[1]金华!$D$13:$Q$1160,14,FALSE) -> 32 | I40: =VLOOKUP(B40,[1]金华!$D$13:$R$1160,15,FALSE) -> 32 | J40: =VLOOKUP(B40,[3]金华!$D$13:$S$1160,16,FALSE) -> 32
A41: =MAX($A$3:A40)+1 -> 38 | B41: 25031004301 | C41: 酪氨酸磷酸酶抗体测定 | F41: 项 | G41: =VLOOKUP(B41,[1]金华!$D$13:$P$1160,13,FALSE) -> 32 | H41: =VLOOKUP(B41,[1]金华!$D$13:$Q$1160,14,FALSE) -> 32 | I41: =VLOOKUP(B41,[1]金华!$D$13:$R$1160,15,FALSE) -> 32 | J41: =VLOOKUP(B41,[3]金华!$D$13:$S$1160,16,FALSE) -> 32
A42: =MAX($A$3:A41)+1 -> 39 | B42: 25031100500 | C42: I型胶原羧基端前肽（PICP）测定 | F42: 项 | G42: =VLOOKUP(B42,[1]金华!$D$13:$P$1160,13,FALSE) -> 43 | H42: =VLOOKUP(B42,[1]金华!$D$13:$Q$1160,14,FALSE) -> 43 | I42: =VLOOKUP(B42,[1]金华!$D$13:$R$1160,15,FALSE) -> 43 | J42: =VLOOKUP(B42,[3]金华!$D$13:$S$1160,16,FALSE) -> 43
A43: =MAX($A$3:A42)+1 -> 40 | B43: 25031100700 | C43: β-胶原降解产物测定（β-CTX） | F43: 项 | G43: =VLOOKUP(B43,[1]金华!$D$13:$P$1160,13,FALSE) -> 43 | H43: =VLOOKUP(B43,[1]金华!$D$13:$Q$1160,14,FALSE) -> 43 | I43: =VLOOKUP(B43,[1]金华!$D$13:$R$1160,15,FALSE) -> 43 | J43: =VLOOKUP(B43,[3]金华!$D$13:$S$1160,16,FALSE) -> 43
... A67: =MAX($A$3:A66)+1 -> 64 | B67: 25040490500 | C67: 壳多糖酶3样蛋白1（CHI3L1） | F67: 次 | G67: =VLOOKUP(B67,[1]金华!$D$13:$P$1160,13,FALSE) -> 321 | H67: =VLOOKUP(B67,[1]金华!$D$13:$Q$1160,14,FALSE) -> 321 | I67: =VLOOKUP(B67,[1]金华!$D$13:$R$1160,15,FALSE) -> 321 | J67: =VLOOKUP(B67,[3]金华!$D$13:$S$1160,16,FALSE) -> 321
A68: =MAX($A$3:A67)+1 -> 65 | B68: 25040490600 | C68: 肺癌七种自身抗体检测 | D68: 指p53、GAGE7、PGP9.5、CAGE、MAGE A1、SOX2、GBU4-5自身抗体检测 | F68: 次 | G68: =VLOOKUP(B68,[1]金华!$D$13:$P$1160,13,FALSE) -> 379 | H68: =VLOOKUP(B68,[1]金华!$D$13:$Q$1160,14,FALSE) -> 379 | I68: =VLOOKUP(B68,[1]金华!$D$13:$R$1160,15,FALSE) -> 379 | J68: =VLOOKUP(B68,[3]金华!$D$13:$S$1160,16,FALSE) -> 379 | K68: 限于肺占位性病变、肺部阴影、肺不典型增生患者
A69: =MAX($A$3:A68)+1 -> 66 | B69: 25070200500 | C69: 基因表达水平对肿瘤药物敏感性的判断 | D69: 血液采集与处理/组织切片及病理检查，提取血液/组织人基因组RNA；RNA纯度和浓度测定。采用PCR扩增或芯片等方法学检测，结果判读；室内质控，结果分析并报告；标本保存，标本无害化处理 | F69: 次 | G69: =VLOOKUP(B69,[1]金华!$D$13:$P$1160,13,FALSE) -> 340 | H69: =VLOOKUP(B69,[1]金华!$D$13:$Q$1160,14,FALSE) -> 340 | I69: =VLOOKUP(B69,[1]金华!$D$13:$R$1160,15,FALSE) -> 340 | J69: =VLOOKUP(B69,[3]金华!$D$13:$S$1160,16,FALSE) -> 340
A70: =MAX($A$3:A69)+1 -> 67 | B70: 27030000500 | C70: 手术标本检查与诊断 | F70: 例 | G70: 182 | H70: 182 | I70: 182 | J70: =VLOOKUP(B70,[3]金华!$D$13:$S$1160,16,FALSE) -> 150 | K70: 微创手术标本每例最多加收10只蜡块；与其他组织病理学检查诊断项目(大类编码2703)不能同时计收
A71: =MAX($A$3:A70)+1 -> 68 | B71: 31010000300 | C71: 脑地形图 | D71: 含脑电图、二维脑地形图（至少16导） | F71: 次 | G71: =VLOOKUP(B71,[1]金华!$D$13:$P$1160,13,FALSE) -> 50 | H71: =VLOOKUP(B71,[1]金华!$D$13:$Q$1160,14,FALSE) -> 50 | I71: =VLOOKUP(B71,[1]金华!$D$13:$R$1160,15,FALSE) -> 50 | J71: =VLOOKUP(B71,[3]金华!$D$13:$S$1160,16,FALSE) -> 45
A72: =MAX($A$3:A71)+1 -> 69 | B72: 31010000800 | C72: 神经电图 | D72: 含检查F波、H反射、瞬目反射 | F72: 每条神经 | G72: =VLOOKUP(B72,[1]金华!$D$13:$P$1160,13,FALSE) -> 11.7 | H72: =VLOOKUP(B72,[1]金华!$D$13:$Q$1160,14,FALSE) -> 11.7 | I72: =VLOOKUP(B72,[1]金华!$D$13:$R$1160,15,FALSE) -> 11.7 | J72: =VLOOKUP(B72,[3]金华!$D$13:$S$1160,16,FALSE) -> 10.53
A73: =MAX($A$3:A72)+1 -> 70 | B73: 31010001200 | C73: 脑干听觉诱发电位 | F73: 次 | G73: =VLOOKUP(B73,[1]金华!$D$13:$P$1160,13,FALSE) -> 110 | H73: =VLOOKUP(B73,[1]金华!$D$13:$Q$1160,14,FALSE) -> 110 | I73: =VLOOKUP(B73,[1]金华!$D$13:$R$1160,15,FALSE) -> 110 | J73: =VLOOKUP(B73,[3]金华!$D$13:$S$1160,16,FALSE) -> 99
A74: =MAX($A$3:A73)+1 -> 71 | B74: 31010001300 | C74: 术中颅神经监测 | F74: =VLOOKUP(B74,[2]临床诊疗类!$A$19:$I$1048576,5,FALSE) -> 小时 | G74: 50 | H74: 50 | I74: 50 | J74: =VLOOKUP(B74,[3]金华!$D$13:$S$1160,16,FALSE) -> 45
A75: =MAX($A$3:A74)+1 -> 72 | B75: 31010001400 | C75: 颅内压监测 | F75: =VLOOKUP(B75,[2]临床诊疗类!$A$19:$I$1048576,5,FALSE) -> 小时 | G75: 3 | H75: 3 | I75: 3 | J75: =VLOOKUP(B75,[3]金华!$D$13:$S$1160,16,FALSE) -> 2.7
A76: =MAX($A$3:A75)+1 -> 73 | B76: 31010001600 | C76: 腰椎穿刺术 | D76: 含测压、注药 | F76: 次 | G76: =VLOOKUP(B76,[1]金华!$D$13:$P$1160,13,FALSE) -> 156 | H76: =VLOOKUP(B76,[1]金华!$D$13:$Q$1160,14,FALSE) -> 156 | I76: =VLOOKUP(B76,[1]金华!$D$13:$R$1160,15,FALSE) -> 156 | J76: =VLOOKUP(B76,[3]金华!$D$13:$S$1160,16,FALSE) -> 140.4 | K76: 6周岁及以下儿童加收30%
A77: =MAX($A$3:A76)+1 -> 74 | B77: 31010002700 | C77: 神经阻滞治疗 | D77: 含注射器等材料 | F77: 人次 | G77: =VLOOKUP(B77,[1]金华!$D$13:$P$1160,13,FALSE) -> 58.8 | H77: =VLOOKUP(B77,[1]金华!$D$13:$Q$1160,14,FALSE) -> 58.8 | I77: =VLOOKUP(B77,[1]金华!$D$13:$R$1160,15,FALSE) -> 58.8 | J77: =VLOOKUP(B77,[3]金华!$D$13:$S$1160,16,FALSE) -> 52.92
A78: =MAX($A$3:A77)+1 -> 75 | B78: 31010002901 | C78: 感觉根射频温控热凝 | D78: 含射频温控治疗、测定疗效范围、局部加压 | F78: 次 | G78: =VLOOKUP(B78,[1]金华!$D$13:$P$1160,13,FALSE) -> 484 | H78: =VLOOKUP(B78,[1]金华!$D$13:$Q$1160,14,FALSE) -> 484 | I78: =VLOOKUP(B78,[1]金华!$D$13:$R$1160,15,FALSE) -> 484 | J78: =VLOOKUP(B78,[3]金华!$D$13:$S$1160,16,FALSE) -> 435.6
A79: =MAX($A$3:A78)+1 -> 76 | B79: 31030000701 | C79: 医学验光 | D79: 含检影、散瞳、云雾试验、试镜、镜片检测 | F79: 人次 | G79: =VLOOKUP(B79,[1]金华!$D$13:$P$1160,13,FALSE) -> 11.3 | H79: =VLOOKUP(B79,[1]金华!$D$13:$Q$1160,14,FALSE) -> 11.3 | I79: =VLOOKUP(B79,[1]金华!$D$13:$R$1160,15,FALSE) -> 11.3 | J79: =VLOOKUP(B79,[3]金华!$D$13:$S$1160,16,FALSE) -> 10.17
A80: =MAX($A$3:A79)+1 -> 77 | B80: 31030009300 | C80: 眼部脓肿切开引流术（单眼） | F80: =VLOOKUP(B80,[2]临床诊疗类!$A$19:$I$1048576,5,FALSE) -> 次 | G80: 46 | H80: 46 | I80: 46 | J80: =VLOOKUP(B80,[3]金华!$D$13:$S$1160,16,FALSE) -> 41.4
A81: =MAX($A$3:A80)+1 -> 78 | B81: 31030009301 | C81: 眼部脓肿切开引流术（双眼） | F81: =VLOOKUP(B81,[2]临床诊疗类!$A$19:$I$1048576,5,FALSE) -> 次 | G81: 91 | H81: 91 | I81: 91 | J81: =VLOOKUP(B81,[3]金华!$D$13:$S$1160,16,FALSE) -> 81.9
A82: =MAX($A$3:A81)+1 -> 79 | B82: 31040100100 | C82: 听性脑干反应 | F82: 人次 | G82: =VLOOKUP(B82,[1]金华!$D$13:$P$1160,13,FALSE) -> 112 | H82: =VLOOKUP(B82,[1]金华!$D$13:$Q$1160,14,FALSE) -> 112 | I82: =VLOOKUP(B82,[1]金华!$D$13:$R$1160,15,FALSE) -> 112 | J82: =VLOOKUP(B82,[3]金华!$D$13:$S$1160,16,FALSE) -> 100.8
A83: =MAX($A$3:A82)+1 -> 80 | B83: 31040104000 | C83: 鼓膜穿刺术 | F83: 人次 | G83: =VLOOKUP(B83,[1]金华!$D$13:$P$1160,13,FALSE) -> 44.3 | H83: =VLOOKUP(B83,[1]金华!$D$13:$Q$1160,14,FALSE) -> 44.3 | I83: =VLOOKUP(B83,[1]金华!$D$13:$R$1160,15,FALSE) -> 44.3 | J83: =VLOOKUP(B83,[3]金华!$D$13:$S$1160,16,FALSE) -> 39.87 | K83: 6周岁及以下儿童加收30%
A84: =MAX($A$3:A83)+1 -> 81 | B84: 31040104101 | C84: 取耵聍 | D84: 含冲洗及生理盐水、注射器等 | F84: 人次 | G84: =VLOOKUP(B84,[1]金华!$D$13:$P$1160,13,FALSE) -> 15 | H84: =VLOOKUP(B84,[1]金华!$D$13:$Q$1160,14,FALSE) -> 15 | I84: =VLOOKUP(B84,[1]金华!$D$13:$R$1160,15,FALSE) -> 15 | J84: =VLOOKUP(B84,[3]金华!$D$13:$S$1160,16,FALSE) -> 13.5
A85: =MAX($A$3:A84)+1 -> 82 | B85: 31050000101 | C85: 口腔治疗用麻醉 | F85: 次 | G85: =VLOOKUP(B85,[1]金华!$D$13:$P$1160,13,FALSE) -> 13 | H85: =VLOOKUP(B85,[1]金华!$D$13:$Q$1160,14,FALSE) -> 13 | I85: =VLOOKUP(B85,[1]金华!$D$13:$R$1160,15,FALSE) -> 13 | J85: =VLOOKUP(B85,[3]金华!$D$13:$S$1160,16,FALSE) -> 11.7
A86: =MAX($A$3:A85)+1 -> 83 | B86: 31050100800 | C86: 记存模型制备 | D86: 含印模制取、模型灌制、修正及取蜡型硅橡胶、硬石膏、超硬石膏 | F86: 单颌 | G86: =VLOOKUP(B86,[1]金华!$D$13:$P$1160,13,FALSE) -> 50 | H86: =VLOOKUP(B86,[1]金华!$D$13:$Q$1160,14,FALSE) -> 50 | I86: =VLOOKUP(B86,[1]金华!$D$13:$R$1160,15,FALSE) -> 50 | J86: =VLOOKUP(B86,[3]金华!$D$13:$S$1160,16,FALSE) -> 45
A87: =MAX($A$3:A86)+1 -> 84 | B87: 31050101100 | C87: 口腔常规检查 | D87: 含口腔内镜检查 | F87: 人次 | G87: =VLOOKUP(B87,[1]金华!$D$13:$P$1160,13,FALSE) -> 5.8 | H87: =VLOOKUP(B87,[1]金华!$D$13:$Q$1160,14,FALSE) -> 5.8 | I87: =VLOOKUP(B87,[1]金华!$D$13:$R$1160,15,FALSE) -> 5.8 | J87: =VLOOKUP(B87,[3]金华!$D$13:$S$1160,16,FALSE) -> 5.22
A88: =MAX($A$3:A87)+1 -> 85 | B88: 31050200100 | C88: 牙髓活力检查 | D88: 含冷测、热测、牙髓活力电测等 | F88: 每牙 | G88: =VLOOKUP(B88,[1]金华!$D$13:$P$1160,13,FALSE) -> 5.6 | H88: =VLOOKUP(B88,[1]金华!$D$13:$Q$1160,14,FALSE) -> 5.6 | I88: =VLOOKUP(B88,[1]金华!$D$13:$R$1160,15,FALSE) -> 5.6 | J88: =VLOOKUP(B88,[3]金华!$D$13:$S$1160,16,FALSE) -> 5.04
A89: =MAX($A$3:A88)+1 -> 86 | B89: 31050300300 | C89: 牙周常规检查 | D89: 含咬合动度测定、龈沟液量测定、龈上菌斑检查 | F89: 每牙 | G89: =VLOOKUP(B89,[1]金华!$D$13:$P$1160,13,FALSE) -> 1.1 | H89: =VLOOKUP(B89,[1]金华!$D$13:$Q$1160,14,FALSE) -> 1.1 | I89: =VLOOKUP(B89,[1]金华!$D$13:$R$1160,15,FALSE) -> 1.1 | J89: =VLOOKUP(B89,[3]金华!$D$13:$S$1160,16,FALSE) -> 0.99
A90: =MAX($A$3:A89)+1 -> 87 | B90: 31051000100 | C90: 调合 | F90: 每牙 | G90: =VLOOKUP(B90,[1]金华!$D$13:$P$1160,13,FALSE) -> 3.9 | H90: =VLOOKUP(B90,[1]金华!$D$13:$Q$1160,14,FALSE) -> 3.9 | I90: =VLOOKUP(B90,[1]金华!$D$13:$R$1160,15,FALSE) -> 3.9 | J90: =VLOOKUP(B90,[3]金华!$D$13:$S$1160,16,FALSE) -> 3.51
A91: =MAX($A$3:A90)+1 -> 88 | B91: 31051000400 | C91: 口腔局部冲洗上药 | D91: 含冲洗、含漱，牙周袋内上药、粘膜病变部位上药 | F91: 人次 | G91: =VLOOKUP(B91,[1]金华!$D$13:$P$1160,13,FALSE) -> 12 | H91: =VLOOKUP(B91,[1]金华!$D$13:$Q$1160,14,FALSE) -> 12 | I91: =VLOOKUP(B91,[1]金华!$D$13:$R$1160,15,FALSE) -> 12 | J91: =VLOOKUP(B91,[3]金华!$D$13:$S$1160,16,FALSE) -> 10.8
A92: =MAX($A$3:A91)+1 -> 89 | B92: 31051000900 | C92: 口内脓肿切开引流术 | F92: 次 | G92: =VLOOKUP(B92,[1]金华!$D$13:$P$1160,13,FALSE) -> 14.5 | H92: =VLOOKUP(B92,[1]金华!$D$13:$Q$1160,14,FALSE) -> 14.5 | I92: =VLOOKUP(B92,[1]金华!$D$13:$R$1160,15,FALSE) -> 14.5 | J92: =VLOOKUP(B92,[3]金华!$D$13:$S$1160,16,FALSE) -> 13.05
A93: =MAX($A$3:A92)+1 -> 90 | B93: 31051100100 | C93: 简单充填术（Ⅰ类洞的充填） | D93: 含备洞、垫底、洞型设计及咬合检查、充填体抛光术 | F93: 每牙 | G93: =VLOOKUP(B93,[1]金华!$D$13:$P$1160,13,FALSE) -> 37 | H93: =VLOOKUP(B93,[1]金华!$D$13:$Q$1160,14,FALSE) -> 37 | I93: =VLOOKUP(B93,[1]金华!$D$13:$R$1160,15,FALSE) -> 37 | J93: =VLOOKUP(B93,[3]金华!$D$13:$S$1160,16,FALSE) -> 33.3
A94: =MAX($A$3:A93)+1 -> 91 | B94: 31051100101 | C94: 简单充填术（V类洞的充填） | D94: 含备洞、垫底、洞型设计及咬合检查、充填体抛光术 | F94: 每牙 | G94: =VLOOKUP(B94,[1]金华!$D$13:$P$1160,13,FALSE) -> 37 | H94: =VLOOKUP(B94,[1]金华!$D$13:$Q$1160,14,FALSE) -> 37 | I94: =VLOOKUP(B94,[1]金华!$D$13:$R$1160,15,FALSE) -> 37 | J94: =VLOOKUP(B94,[3]金华!$D$13:$S$1160,16,FALSE) -> 33.3
A95: =MAX($A$3:A94)+1 -> 92 | B95: 31051100800 | C95: 橡皮障隔湿法 | D95: 含一次性橡皮布 | F95: 次 | G95: =VLOOKUP(B95,[1]金华!$D$13:$P$1160,13,FALSE) -> 27 | H95: =VLOOKUP(B95,[1]金华!$D$13:$Q$1160,14,FALSE) -> 27 | I95: =VLOOKUP(B95,[1]金华!$D$13:$R$1160,15,FALSE) -> 27 | J95: =VLOOKUP(B95,[3]金华!$D$13:$S$1160,16,FALSE) -> 24.3
A96: =MAX($A$3:A95)+1 -> 93 | B96: 31051101200 | C96: 牙髓失活术 | D96: 含开髓、备洞、封药 | F96: 每牙 | G96: =VLOOKUP(B96,[1]金华!$D$13:$P$1160,13,FALSE) -> 19.5 | H96: =VLOOKUP(B96,[1]金华!$D$13:$Q$1160,14,FALSE) -> 19.5 | I96: =VLOOKUP(B96,[1]金华!$D$13:$R$1160,15,FALSE) -> 19.5 | J96: =VLOOKUP(B96,[3]金华!$D$13:$S$1160,16,FALSE) -> 17.55
A97: =MAX($A$3:A96)+1 -> 94 | B97: 31051101300 | C97: 开髓引流术 | D97: 含开髓 | F97: 每牙 | G97: =VLOOKUP(B97,[1]金华!$D$13:$P$1160,13,FALSE) -> 19.1 | H97: =VLOOKUP(B97,[1]金华!$D$13:$Q$1160,14,FALSE) -> 19.1 | I97: =VLOOKUP(B97,[1]金华!$D$13:$R$1160,15,FALSE) -> 19.1 | J97: =VLOOKUP(B97,[3]金华!$D$13:$S$1160,16,FALSE) -> 17.19
A98: =MAX($A$3:A97)+1 -> 95 | B98: 31051101500 | C98: 牙髓摘除术 | D98: 含揭髓顶、拔髓、荡洗根管 | F98: 每根管 | G98: =VLOOKUP(B98,[1]金华!$D$13:$P$1160,13,FALSE) -> 6.2 | H98: =VLOOKUP(B98,[1]金华!$D$13:$Q$1160,14,FALSE) -> 6.2 | I98: =VLOOKUP(B98,[1]金华!$D$13:$R$1160,15,FALSE) -> 6.2 | J98: =VLOOKUP(B98,[3]金华!$D$13:$S$1160,16,FALSE) -> 5.58
A99: =MAX($A$3:A98)+1 -> 96 | B99: 31051101700 | C99: 根管充填术 | F99: 每根管 | G99: =VLOOKUP(B99,[1]金华!$D$13:$P$1160,13,FALSE) -> 37.4 | H99: =VLOOKUP(B99,[1]金华!$D$13:$Q$1160,14,FALSE) -> 37.4 | I99: =VLOOKUP(B99,[1]金华!$D$13:$R$1160,15,FALSE) -> 37.4 | J99: =VLOOKUP(B99,[3]金华!$D$13:$S$1160,16,FALSE) -> 33.66
A100: =MAX($A$3:A99)+1 -> 97 | B100: 31051101900 | C100: 髓腔消毒术 | D100: 含髓腔或根管消毒、瘘管治疗 | F100: 每根管 | G100: =VLOOKUP(B100,[1]金华!$D$13:$P$1160,13,FALSE) -> 2.8 | H100: =VLOOKUP(B100,[1]金华!$D$13:$Q$1160,14,FALSE) -> 2.8 | I100: =VLOOKUP(B100,[1]金华!$D$13:$R$1160,15,FALSE) -> 2.8 | J100: =VLOOKUP(B100,[3]金华!$D$13:$S$1160,16,FALSE) -> 2.52
A101: =MAX($A$3:A100)+1 -> 98 | B101: 31051200900 | C101: 钙化桥打通术 | D101: 指年轻恒牙经活髓切断牙根已形成，需进一步根管治疗修复，但存在钙化桥；含去旧充填体、打通钙化桥、根管治疗修复 | F101: 每牙 | G101: =VLOOKUP(B101,[1]金华!$D$13:$P$1160,13,FALSE) -> 108 | H101: =VLOOKUP(B101,[1]金华!$D$13:$Q$1160,14,FALSE) -> 108 | I101: =VLOOKUP(B101,[1]金华!$D$13:$R$1160,15,FALSE) -> 108 | J101: =VLOOKUP(B101,[3]金华!$D$13:$S$1160,16,FALSE) -> 97.2
A102: =MAX($A$3:A101)+1 -> 99 | B102: 31051300500 | C102: 牙面光洁术 | D102: 含抛光 | F102: 每牙 | G102: =VLOOKUP(B102,[1]金华!$D$13:$P$1160,13,FALSE) -> 4.4 | H102: =VLOOKUP(B102,[1]金华!$D$13:$Q$1160,14,FALSE) -> 4.4 | I102: =VLOOKUP(B102,[1]金华!$D$13:$R$1160,15,FALSE) -> 4.4 | J102: =VLOOKUP(B102,[3]金华!$D$13:$S$1160,16,FALSE) -> 3.96
A103: =MAX($A$3:A102)+1 -> 100 | B103: 31051300800 | C103: 根面平整术 | D103: 含手工根面平整 | F103: 每牙 | G103: =VLOOKUP(B103,[1]金华!$D$13:$P$1160,13,FALSE) -> 12.7 | H103: =VLOOKUP(B103,[1]金华!$D$13:$Q$1160,14,FALSE) -> 12.7 | I103: =VLOOKUP(B103,[1]金华!$D$13:$R$1160,15,FALSE) -> 12.7 | J103: =VLOOKUP(B103,[3]金华!$D$13:$S$1160,16,FALSE) -> 11.43
A104: =MAX($A$3:A103)+1 -> 101 | B104: 31060101200 | C104: 支气管舒张试验 | D104: 含通气功能测定2次 | F104: 项 | G104: =VLOOKUP(B104,[1]金华!$D$13:$P$1160,13,FALSE) -> 79.4 | H104: =VLOOKUP(B104,[1]金华!$D$13:$Q$1160,14,FALSE) -> 79.4 | I104: =VLOOKUP(B104,[1]金华!$D$13:$R$1160,15,FALSE) -> 79.4 | J104: =VLOOKUP(B104,[3]金华!$D$13:$S$1160,16,FALSE) -> 71.46
A105: =MAX($A$3:A104)+1 -> 102 | B105: 31060300200 | C105: 无创辅助通气（CPAP） | F105: 小时 | G105: =VLOOKUP(B105,[1]金华!$D$13:$P$1160,13,FALSE) -> 3 | H105: =VLOOKUP(B105,[1]金华!$D$13:$Q$1160,14,FALSE) -> 3 | I105: =VLOOKUP(B105,[1]金华!$D$13:$R$1160,15,FALSE) -> 3 | J105: =VLOOKUP(B105,[3]金华!$D$13:$S$1160,16,FALSE) -> 2.7
A106: =MAX($A$3:A105)+1 -> 103 | B106: 31060300201 | C106: 无创辅助通气（BIPAP） | F106: 小时 | G106: =VLOOKUP(B106,[1]金华!$D$13:$P$1160,13,FALSE) -> 3 | H106: =VLOOKUP(B106,[1]金华!$D$13:$Q$1160,14,FALSE) -> 3 | I106: =VLOOKUP(B106,[1]金华!$D$13:$R$1160,15,FALSE) -> 3 | J106: =VLOOKUP(B106,[3]金华!$D$13:$S$1160,16,FALSE) -> 2.7
A107: =MAX($A$3:A106)+1 -> 104 | B107: 31060400600 | C107: 经皮穿刺肺活检术 | D107: 不含CT、X线、B超引导 | F107: 次 | G107: =VLOOKUP(B107,[1]金华!$D$13:$P$1160,13,FALSE) -> 310 | H107: =VLOOKUP(B107,[1]金华!$D$13:$Q$1160,14,FALSE) -> 310 | I107: =VLOOKUP(B107,[1]金华!$D$13:$R$1160,15,FALSE) -> 310 | J107: =VLOOKUP(B107,[3]金华!$D$13:$S$1160,16,FALSE) -> 279 | K107: 6周岁及以下儿童加收30%
A108: =MAX($A$3:A107)+1 -> 105 | B108: 31060501000 | C108: 经支气管镜支架置入术 | D108: 含支气管镜检查术、经内镜气管扩张术 | E108: 支架 | F108: 次 | G108: =VLOOKUP(B108,[1]金华!$D$13:$P$1160,13,FALSE) -> 988 | H108: =VLOOKUP(B108,[1]金华!$D$13:$Q$1160,14,FALSE) -> 988 | I108: =VLOOKUP(B108,[1]金华!$D$13:$R$1160,15,FALSE) -> 988 | J108: =VLOOKUP(B108,[3]金华!$D$13:$S$1160,16,FALSE) -> 889.2
A109: =MAX($A$3:A108)+1 -> 106 | B109: 31070100200 | C109: 食管内心电图 | E109: =VLOOKUP(B109,[2]临床诊疗类!$A$20:$I$1048576,4,FALSE) -> 一次性导管 | F109: =VLOOKUP(B109,[2]临床诊疗类!$A$19:$I$1048576,5,FALSE) -> 次 | G109: 60 | H109: 60 | I109: 60 | J109: =VLOOKUP(B109,[3]金华!$D$13:$S$1160,16,FALSE) -> 54
A110: =MAX($A$3:A109)+1 -> 107 | B110: 31070102600 | C110: 周围静脉压测定 | E110: =VLOOKUP(B110,[2]临床诊疗类!$A$20:$I$1048576,4,FALSE) -> 压力传感器 | F110: =VLOOKUP(B110,[2]临床诊疗类!$A$19:$I$1048576,5,FALSE) -> 人次 | G110: 20 | H110: 20 | I110: 20 | J110: =VLOOKUP(B110,[3]金华!$D$13:$S$1160,16,FALSE) -> 18
A111: =MAX($A$3:A110)+1 -> 108 | B111: 31070200300 | C111: 有创性心内电生理检查术 | F111: 次 | G111: =VLOOKUP(B111,[1]金华!$D$13:$P$1160,13,FALSE) -> 566 | H111: =VLOOKUP(B111,[1]金华!$D$13:$Q$1160,14,FALSE) -> 566 | I111: =VLOOKUP(B111,[1]金华!$D$13:$R$1160,15,FALSE) -> 566 | J111: =VLOOKUP(B111,[3]金华!$D$13:$S$1160,16,FALSE) -> 509.4
A112: =MAX($A$3:A111)+1 -> 109 | B112: 31070200500 | C112: 临时起搏器安置术 | F112: 次 | G112: =VLOOKUP(B112,[1]金华!$D$13:$P$1160,13,FALSE) -> 700 | H112: =VLOOKUP(B112,[1]金华!$D$13:$Q$1160,14,FALSE) -> 700 | I112: =VLOOKUP(B112,[1]金华!$D$13:$R$1160,15,FALSE) -> 700 | J112: =VLOOKUP(B112,[3]金华!$D$13:$S$1160,16,FALSE) -> 630
A113: =MAX($A$3:A112)+1 -> 110 | B113: 31070200700 | C113: 永久起搏器安置术 | D113: 含起搏器功能分析和随访 | E113: 起搏器 | F113: 次 | G113: =VLOOKUP(B113,[1]金华!$D$13:$P$1160,13,FALSE) -> 1570 | H113: =VLOOKUP(B113,[1]金华!$D$13:$Q$1160,14,FALSE) -> 1570 | I113: =VLOOKUP(B113,[1]金华!$D$13:$R$1160,15,FALSE) -> 1570 | J113: =VLOOKUP(B113,[3]金华!$D$13:$S$1160,16,FALSE) -> 1413
A114: =MAX($A$3:A113)+1 -> 111 | B114: 31070200800 | C114: 永久起搏器更换术 | D114: 含取出术、起搏器功能分析和随访 | E114: 起搏器 | F114: 次 | G114: =VLOOKUP(B114,[1]金华!$D$13:$P$1160,13,FALSE) -> 1243 | H114: =VLOOKUP(B114,[1]金华!$D$13:$Q$1160,14,FALSE) -> 1243 | I114: =VLOOKUP(B114,[1]金华!$D$13:$R$1160,15,FALSE) -> 1243 | J114: =VLOOKUP(B114,[3]金华!$D$13:$S$1160,16,FALSE) -> 1118.7
A115: =MAX($A$3:A114)+1 -> 112 | B115: 31070201600 | C115: 心脏电复律术 | F115: 人次 | G115: =VLOOKUP(B115,[1]金华!$D$13:$P$1160,13,FALSE) -> 178 | H115: =VLOOKUP(B115,[1]金华!$D$13:$Q$1160,14,FALSE) -> 178 | I115: =VLOOKUP(B115,[1]金华!$D$13:$R$1160,15,FALSE) -> 178 | J115: =VLOOKUP(B115,[3]金华!$D$13:$S$1160,16,FALSE) -> 160.2
A116: =MAX($A$3:A115)+1 -> 113 | B116: 31070201700 | C116: 心脏电除颤术 | F116: 人次 | G116: =VLOOKUP(B116,[1]金华!$D$13:$P$1160,13,FALSE) -> 249 | H116: =VLOOKUP(B116,[1]金华!$D$13:$Q$1160,14,FALSE) -> 249 | I116: =VLOOKUP(B116,[1]金华!$D$13:$R$1160,15,FALSE) -> 249 | J116: =VLOOKUP(B116,[3]金华!$D$13:$S$1160,16,FALSE) -> 224.1
A117: =MAX($A$3:A116)+1 -> 114 | B117: 31080000200 | C117: 骨髓活检术 | D117: 含骨髓穿刺术 | F117: 次 | G117: =VLOOKUP(B117,[1]金华!$D$13:$P$1160,13,FALSE) -> 153 | H117: =VLOOKUP(B117,[1]金华!$D$13:$Q$1160,14,FALSE) -> 153 | I117: =VLOOKUP(B117,[1]金华!$D$13:$R$1160,15,FALSE) -> 153 | J117: =VLOOKUP(B117,[3]金华!$D$13:$S$1160,16,FALSE) -> 137.7 | K117: 6周岁及以下儿童加收30%
A118: =MAX($A$3:A117)+1 -> 115 | B118: 31090100200 | C118: 食管拉网术 | D118: =VLOOKUP(B118,[2]临床诊疗类!$A$20:$I$1048576,3,FALSE) | F118: =VLOOKUP(B118,[2]临床诊疗类!$A$19:$I$1048576,5,FALSE) -> 次 | G118: 26 | H118: 26 | I118: 26 | J118: =VLOOKUP(B118,[3]金华!$D$13:$S$1160,16,FALSE) -> 23.4
A119: =MAX($A$3:A118)+1 -> 116 | B119: 31090100500 | C119: 经内镜食管治疗 | D119: 含滴药、液疗、药疗、化疗、硬化剂治疗，取异物、止血，息肉、肿物切除 | F119: 次 | G119: =VLOOKUP(B119,[1]金华!$D$13:$P$1160,13,FALSE) -> 438 | H119: =VLOOKUP(B119,[1]金华!$D$13:$Q$1160,14,FALSE) -> 438 | I119: =VLOOKUP(B119,[1]金华!$D$13:$R$1160,15,FALSE) -> 438 | J119: =VLOOKUP(B119,[3]金华!$D$13:$S$1160,16,FALSE) -> 394.2
A120: =MAX($A$3:A119)+1 -> 117 | B120: 31090300100 | C120: 经内镜胃肠置管术 | E120: 置入管 | F120: 次 | G120: =VLOOKUP(B120,[1]金华!$D$13:$P$1160,13,FALSE) -> 418 | H120: =VLOOKUP(B120,[1]金华!$D$13:$Q$1160,14,FALSE) -> 418 | I120: =VLOOKUP(B120,[1]金华!$D$13:$R$1160,15,FALSE) -> 418 | J120: =VLOOKUP(B120,[3]金华!$D$13:$S$1160,16,FALSE) -> 376.2
A121: =MAX($A$3:A120)+1 -> 118 | B121: 31090300301 | C121: 经胃十二指肠镜胆道异物取出术 | F121: 次 | G121: =VLOOKUP(B121,[1]金华!$D$13:$P$1160,13,FALSE) -> 981 | H121: =VLOOKUP(B121,[1]金华!$D$13:$Q$1160,14,FALSE) -> 981 | I121: =VLOOKUP(B121,[1]金华!$D$13:$R$1160,15,FALSE) -> 981 | J121: =VLOOKUP(B121,[3]金华!$D$13:$S$1160,16,FALSE) -> 882.9
A122: =MAX($A$3:A121)+1 -> 119 | B122: 31090301400 | C122: 经鼻空肠营养管置管术 | E122: 置入管 | F122: 次 | G122: =VLOOKUP(B122,[1]金华!$D$13:$P$1160,13,FALSE) -> 135 | H122: =VLOOKUP(B122,[1]金华!$D$13:$Q$1160,14,FALSE) -> 135 | I122: =VLOOKUP(B122,[1]金华!$D$13:$R$1160,15,FALSE) -> 135 | J122: =VLOOKUP(B122,[3]金华!$D$13:$S$1160,16,FALSE) -> 121.5
A123: =MAX($A$3:A122)+1 -> 120 | B123: 31090500300 | C123: 肝穿刺术 | F123: 次 | G123: =VLOOKUP(B123,[1]金华!$D$13:$P$1160,13,FALSE) -> 312 | H123: =VLOOKUP(B123,[1]金华!$D$13:$Q$1160,14,FALSE) -> 312 | I123: =VLOOKUP(B123,[1]金华!$D$13:$R$1160,15,FALSE) -> 312 | J123: =VLOOKUP(B123,[3]金华!$D$13:$S$1160,16,FALSE) -> 280.8 | K123: 6周岁及以下儿童加收30%
...
