Workbook

Sheet 产科类
A1: 附件1
A2: 产科类医疗服务价格项目及医保支付政策表
A3: 编码 | B3: 项目名称 | C3: 服务产出 | D3: 价格构成 | E3: 计价单位 | F3: 三甲价格（元） | G3: 三乙价格（元） | H3: 二级及以下价格（元） | I3: 基层医疗机构价格（元） | J3: 计价说明 | K3: 医保分类 | L3: 先行支付比例 | M3: 限定支付范围
A4: 311202 | B4: 产科孕产系统
A5: 013112020010000 | B5: 产前常规检查 | C5: 产前对孕妇进行的规范检查、遗传等咨询解答及有关健康指导 | D5: 所定价格涵盖推算孕周、测量孕妇体重、宫高、腹围、血压及听胎心、孕期触诊，以及判断胎位状态、胎儿是否符合孕周等孕期检查、分娩前评估和健康指导步骤所需的人力资源和基本物质资源消耗 | E5: 次 | F5: 17.5 | G5: 17.5 | H5: 17.5 | I5: =VLOOKUP(B5,[1]产科类!$B$4:$BC$78,54,FALSE) -> 15.75 | J5: 1.指在门诊/急诊期间对孕妇进行的常规检查及健康指导，在住院期间对孕/产妇实施价格构成中所列的医疗服务事项，不再单独计费，例如国家卫生健康委制定发布技术规范中所列的“多普勒胎心计数”； 2.每住院期间计收1次 | K5: 甲
A6: 013112020020000 | B6: 胎心监测 | C6: 监测胎儿心率及宫缩压力波形实时变化，达到评估胎儿宫内情况的目的 | D6: 所定价格涵盖定位、固定探头、监测、出具报告等所需的人力资源和基本物质资源消耗 | E6: 胎/次 | F6: 18.7 | G6: 18.7 | H6: 18.7 | I6: =VLOOKUP(B6,[1]产科类!$B$4:$BC$78,54,FALSE) -> 16.83 | J6: 监测的时间要求对照国家卫生健康委《全国医疗服务项目技术规范（2023年版）》相关内容 | K6: 甲
A7: 013112020040000 | B7: 羊膜腔穿刺 | C7: 经羊膜腔获取检测样本，用于产前诊断 | D7: 所定价格涵盖定位、消毒、穿刺、取样、观察等羊膜腔穿刺所有必要操作所需人力资源和基本物质资源消耗 | E7: 胎/次 | F7: 97 | G7: 97 | H7: 97 | I7: =VLOOKUP(B7,[1]产科类!$B$4:$BC$78,54,FALSE) -> 87.3 | K7: 甲
A8: 013112020040001 | B8: 羊膜腔穿刺-内镜下辅助操作（加收） | C8: 经羊膜腔内镜下获取检测样本，用于产前诊断 | E8: 例 | F8: 100 | G8: 100 | H8: 100 | I8: =H8*0.9 -> 90 | K8: 甲
A9: 013112020040100 | B9: 羊膜腔穿刺-羊膜腔穿刺注药（扩展） | C9: 经羊膜腔穿刺注药 | D9: 所定价格涵盖定位、消毒、穿刺、注药、取样、观察等羊膜腔穿刺所有必要操作所需人力资源和基本物质资源消耗 | E9: 胎/次 | F9: 97 | G9: 97 | H9: 97 | I9: =H9*0.9 -> 87.3 | K9: 甲
A10: 013112020050000 | B10: 绒毛取材 | C10: 穿刺获取胎盘绒毛样本 | D10: 所定价格涵盖定位、消毒、穿刺、取材等绒毛取材所有必要操作所需的人力资源和基本物质资源消耗 | E10: 胎/次 | F10: 623 | G10: 623 | H10: 623 | I10: =VLOOKUP(B10,[1]产科类!$B$4:$BC$78,54,FALSE) -> 560.7
A11: 013112020060000 | B11: 胎儿内镜检查 | C11: 经内镜观察宫内胎儿及胎盘情况 | D11: 所定价格涵盖定位、内镜置入、观察、撤除等，必要时取样等操作所需的人力资源和基本物质资源消耗 | E11: 胎/次 | F11: 100 | G11: 100 | H11: 100 | I11: =VLOOKUP(B11,[1]产科类!$B$4:$BC$78,54,FALSE) -> 90 | K11: 甲
A12: 013112020070000 | B12: 催引产 | C12: 通过各种方式促宫颈成熟，以促发临产 | D12: 所定价格涵盖促宫颈成熟等所有必要操作所需的人力资源和基本物质资源消耗 | E12: 日 | F12: 195 | G12: 195 | H12: 195 | I12: =VLOOKUP(B12,[1]产科类!$B$4:$BC$78,54,FALSE) -> 175.5 | J12: 1.指自然日，不足一个自然日按一个自然日计； 2.球囊（扩张器）、水囊（扩张器）、一次性阴道扩张器可单独按照实际采购价格零差率销售 | K12: 甲
A13: 013112020080000 | B13: 产程管理 | C13: 临产后，进入待产室至第二产程前或阴道试产，对产妇的产程进展进行管理 | D13: 所定价格涵盖观察产妇生命体征、宫缩及宫口扩张情况、监测胎心、判断产程进展、记录产程过程，给予相应的安抚、指导，根据需要采取干预措施，必要时行人工破膜等所需的人力资源和基本物质资源消耗 | E13: 次 | F13: 200 | G13: 180 | H13: 162 | I13: =VLOOKUP(B13,[1]产科类!$B$4:$BC$78,54,FALSE) -> 145.8 | J13: 第二产程是指从宫口开全至胎儿娩出 | K13: 甲
A14: 013112020090000 | B14: 分娩镇痛 | C14: 采用麻醉镇痛，以起到减轻产妇分娩过程疼痛，提高分娩质量及舒适度，保证孕产安全的作用 | D14: 所定价格涵盖评估、建立通路、摆放体位、穿刺、置管、剂量验证、观察、注药、氧饱和度监测、装置连接、参数设定、评分、记录、分析病情，必要时调整剂量、撤除装置等所需的人力资源和基本物质资源消耗 | E14: 小时 | F14: 203 | G14: 203 | H14: 203 | I14: =VLOOKUP(B14,[1]产科类!$B$4:$BC$78,54,FALSE) -> 182.7 | J14: 1.以2小时为基价，超过2小时每增加1小时加收140元； 2.阴道分娩镇痛患者及其中途转剖宫产患者使用的硬膜外麻醉套件、镇痛装置可单独按照实际采购价格零差率销售 | K14: 甲
A15: 013112020100000 | B15: 导乐分娩 | C15: 由专业人员给予孕妇导乐相关知识讲解及陪伴，进行合理用力及分娩配合指导 | D15: 应用呼吸减痛、分娩球、腰骶按摩、自由体位等非药物方法减轻分娩疼痛、协助产程进展，给予产妇生活照护和陪伴，在导乐过程中随时观察产程进展等所需的人力资源和基本物质资源消耗 | E15: 次 | F15: 1000 | G15: 1000 | H15: 1000 | I15: =VLOOKUP(B15,[1]产科类!$B$4:$BC$78,54,FALSE) -> 900 | M15: 限生育
A16: 013112020110000 | B16: 亲情陪产 | C16: 产妇在孕产过程中，由医务人员指导家属进入产房陪同孕产，直至胎儿娩出 | D16: 陪产过程中所需的基本物质资源消耗 | E16: 次 | F16: 100 | G16: 100 | H16: 100 | I16: =VLOOKUP(B16,[1]产科类!$B$4:$BC$78,54,FALSE) -> 90 | M16: 限生育
A17: 013112020120000 | B17: 胎儿外倒转 | C17: 纠正异常胎位（臀位、横位），创造顺产条件 | D17: 所定价格涵盖评估、胎位矫正、包扎固定、术后孕妇观察等胎儿外倒转所有必要操作所需的人力资源和基本物质资源消耗 | E17: 次 | F17: 152 | G17: 136.8 | H17: 123.12 | I17: =VLOOKUP(B17,[1]产科类!$B$4:$BC$78,54,FALSE) -> 110.808 | K17: 甲
A18: 013112020130000 | B18: 产时宫外治疗 | C18: 在生产过程中对有呼吸道梗阻和胸部疾病的胎儿进行处理，达到安全生产的目的 | D18: 所定价格涵盖消毒、气管插管/气管切开、采取措施避免胎盘过早剥离、胎儿手术等必要操作所需的人力资源和基本物质资源消耗 | E18: 胎/次 | F18: 1700 | G18: 1700 | H18: 1700 | I18: =VLOOKUP(B18,[1]产科类!$B$4:$BC$78,54,FALSE) -> 1530 | K18: 甲
A19: 013112020150000 | B19: 胎盘血管交通支凝固治疗 | C19: 在宫腔内利用各种能量源对胎儿的胎盘血管交通支进行凝固治疗 | D19: 所定价格涵盖穿刺、内镜置入、观察、凝结胎盘血管交通支、撤除等胎盘血管交通支凝固治疗所有必要操作所需的人力资源和基本物质资源消耗 | E19: 胎/次 | F19: 5050 | G19: 4545 | H19: 4090.5 | I19: =VLOOKUP(B19,[1]产科类!$B$4:$BC$78,54,FALSE) -> 3681.45 | J19: 一次性使用光纤可单独按照实际采购价格零差率销售
A20: 013112020150001 | B20: 胎盘血管交通支凝固治疗-内镜下辅助操作（加收） | C20: 在宫腔内利用各种能量源对胎儿的胎盘血管交通支进行内镜下凝固治疗 | E20: 例 | F20: 100 | G20: 100 | H20: 100 | I20: =H20*0.9 -> 90
A21: 013112020160000 | B21: 羊水调节 | C21: 经羊膜腔穿刺对羊水进行抽吸、引流、灌注、置换，达到维持胎儿生长环境稳定的目的 | D21: 所定价格涵盖定位、消毒、穿刺、抽吸/灌注、放置引流管等羊水调节所有必要操作所需人力资源和基本物质资源消耗 | E21: 次 | F21: 130 | G21: 130 | H21: 130 | I21: =H21*0.9 -> 117 | K21: 甲
A22: 013112020160001 | B22: 羊水调节-内镜下辅助操作（加收） | C22: 经羊膜腔穿刺内镜下对羊水进行抽吸、引流、灌注、置换，达到维持胎儿生长环境稳定的目的 | E22: 例 | F22: 100 | G22: 100 | H22: 100 | I22: =H22*0.9 -> 90 | K22: 甲
A23: 013112020170000 | B23: 子宫压迫止血 | C23: 经药物等保守治疗无效，需要压迫止血，达到止血目的 | D23: 所定价格涵盖扩张宫口、探查宫腔并清宫、填塞宫腔或缝合、压迫止血，必要时材料取出等所需的人力资源和基本物质资源消耗 | E23: 次 | F23: 240 | G23: 240 | H23: 240 | I23: =VLOOKUP(B23,[1]产科类!$B$4:$BC$78,54,FALSE) -> 216 | J23: 一次性阴道扩张器可单独按照实际采购价格零差率销售 | K23: 甲
A24: 013112020180000 | B24: 脐静脉穿刺 | C24: 经羊膜腔获取胎儿脐静脉血 | D24: 所定价格涵盖定位、消毒、穿刺、抽血等脐静脉穿刺所有必要操作所需的人力资源和基本物质资源消耗 | E24: 胎/次 | F24: 115 | G24: 115 | H24: 115 | I24: =VLOOKUP(B24,[1]产科类!$B$4:$BC$78,54,FALSE) -> 103.5 | K24: 甲
A25: 013112020190000 | B25: 药物减胎 | C25: 因孕妇要求或医学指征，通过药物终止多胎妊娠中某一或两个（及以上）胎儿的发育 | D25: 所定价格涵盖消毒、穿刺、注药等药物减胎所有必要操作所需的人力资源和基本物质资源消耗 | E25: 胎/次 | F25: 1193 | G25: 1073.7 | H25: 966.33 | I25: =VLOOKUP(B25,[1]产科类!$B$4:$BC$78,54,FALSE) -> 869.697 | K25: 甲
A26: 013112020200000 | B26: 中期引产 | C26: 孕中期通过药物等方式终止胎儿发育，促宫颈成熟达到临产状态 | D26: 所定价格涵盖消毒、促宫颈成熟、胎儿处理等中期引产所有必要操作所需的人力资源和基本物质资源消耗 | E26: 胎/次 | F26: 120 | G26: 120 | H26: 120 | I26: =VLOOKUP(B26,[1]产科类!$B$4:$BC$78,54,FALSE) -> 108 | J26: 孕期“14周-27周+6”孕周的适用 | K26: 甲
A27: 013112020210000 | B27: 晚期引产 | C27: 孕晚期通过药物等方式终止胎儿发育，促宫颈成熟达到临产状态 | D27: 所定价格涵盖消毒、促宫颈成熟、胎儿处理等晚期引产所有必要操作所需的人力资源和基本物质资源消耗 | E27: 胎/次 | F27: 120 | G27: 120 | H27: 120 | I27: =VLOOKUP(B27,[1]产科类!$B$4:$BC$78,54,FALSE) -> 108 | J27: 孕期超过“27周+6”孕周的适用 | K27: 甲
A28: 013112020220000 | B28: 死胎接生 | C28: 死胎娩出及处理全过程，不含尸体处理 | D28: 所定价格涵盖消毒、协助娩出、胎盘处置，必要时使用器械助产等死胎接生所有必要操作所需的人力资源和基本物质资源消耗 | E28: 胎/次 | F28: 768 | G28: 691.2 | H28: 622.08 | I28: =VLOOKUP(B28,[1]产科类!$B$4:$BC$78,54,FALSE) -> 559.872 | K28: 甲
A29: 3314 | B29: 14.产科手术操作
A30: 013314000010000 | B30: 阴道分娩（常规） | C30: 阴道分娩接生及新生儿处理的全过程处置 | D30: 所定价格涵盖自第二产程开始至第四产程结束期间常规经阴道分娩的全过程和必要操作，包括对产妇的密切观察、生产指导、干预措施，协助胎儿娩出、胎盘娩出，对脐带、胎盘、胎膜的检查处理，对产道的检查、会阴侧切、缝合及裂伤修补（1-2度），母婴观察、处理、评分及记录等所需的人力资源和基本物质资源消耗 | E30: 胎/次 | F30: 898 | G30: 808.2 | H30: 727.38 | I30: =VLOOKUP(B30,[1]产科类!$B$4:$BC$78,54,FALSE) -> 654.642 | J30: 特殊脐带夹可单独按照实际采购价格零差率销售 | K30: 甲
A31: 013314000010001 | B31: 阴道分娩（常规）-会阴裂伤修补(限3-4度)（加收） | C31: 阴道分娩接生及新生儿处理的全过程处置，并行会阴裂伤修补（限3-4度） | E31: 次 | F31: 484 | G31: 435.6 | H31: 392.04 | I31: =H31*0.9 -> 352.836 | J31: 无论多少胎次仅收取一次 | K31: 甲
A32: 013314000010002 | B32: 阴道分娩（常规）-宫颈裂伤修补（加收） | C32: 阴道分娩接生及新生儿处理的全过程处置，并行宫颈裂伤修补 | E32: 次 | F32: 462 | G32: 415.8 | H32: 374.22 | I32: =H32*0.9 -> 336.798 | J32: 无论多少胎次仅收取一次 | K32: 甲
A33: 013314000020000 | B33: 阴道分娩（复杂） | C33: 产妇或胎儿存在情况复杂、风险较高等情况，经阴道分娩接生及新生儿处理的全过程处置 | D33: 所定价格涵盖自第二产程开始至第四产程结束期间复杂情况经阴道分娩的全过程和必要操作，包括对产妇的密切观察、生产指导、干预措施，协助胎儿娩出、胎盘娩出，对脐带、胎盘、胎膜的检查处理，对产道的检查、会阴侧切、缝合及裂伤修补（1-2度），母婴观察、处理、评分及记录等所需的人力资源和基本物质资源消耗 | E33: 胎/次 | F33: 1646 | G33: 1481.4 | H33: 1333.26 | I33: =VLOOKUP(B33,[1]产科类!$B$4:$BC$78,54,FALSE) -> 1199.934 | J33: 1.“阴道分娩（复杂）”是指：产妇或胎儿存在瘢痕子宫、巨大儿、胎儿臀位、肩难产等显著增加阴道分娩难度及风险的情况，或生产过程中医务人员采用胎位旋转、臀位助产、器械助产、手取胎盘等特殊措施的情况； 2.特殊脐带夹可单独按照实际采购价格零差率销售 | K33: 甲
A34: 013314000020001 | B34: 阴道分娩（复杂）-会阴裂伤修补(限3-4度)（加收） | C34: 产妇或胎儿存在情况复杂、风险较高等情况，经阴道分娩接生及新生儿处理的全过程处置，并行会阴裂伤修补（限3-4度） | E34: 次 | F34: 484 | G34: 435.6 | H34: 392.04 | I34: =H34*0.9 -> 352.836 | J34: 无论多少胎次仅收取一次 | K34: 甲
A35: 013314000020002 | B35: 阴道分娩（复杂）-宫颈裂伤修补（加收） | C35: 产妇或胎儿存在情况复杂、风险较高等情况，经阴道分娩接生及新生儿处理的全过程处置，宫颈裂伤修补 | E35: 次 | F35: 462 | G35: 415.8 | H35: 374.22 | I35: =H35*0.9 -> 336.798 | J35: 无论多少胎次仅收取一次 | K35: 甲
A36: 013314000030000 | B36: 剖宫产（常规） | C36: 产妇难产或不适于阴道分娩，通过手术方式分娩接生及新生儿处理的全过程处置 | D36: 所定价格涵盖常规情况通过手术娩出胎儿的全过程和必要操作，包括切开子宫、娩出胎儿、胎盘处理、清理缝合、止血包扎处理等手术全过程，新生儿的观察、处理、评分及记录等所需的人力资源和基本物质资源消耗 | E36: 胎/次 | F36: 1708 | G36: 1537.2 | H36: 1383.48 | I36: =VLOOKUP(B36,[1]产科类!$B$4:$BC$78,54,FALSE) -> 1245.132 | J36: 特殊脐带夹可单独按照实际采购价格零差率销售 | K36: 甲
A37: 013314000030001 | B37: 剖宫产（常规）-阴道分娩转剖宫产（加收） | C37: 产妇难产或不适于阴道分娩，阴道分娩转剖宫产，通过手术方式分娩接生及新生儿处理的全过程处置 | E37: 次 | F37: 275 | G37: 247.5 | H37: 222.75 | I37: =H37*0.9 -> 200.475 | J37: 无论多少胎次仅收取一次 | K37: 甲
A38: 013314000040000 | B38: 剖宫产（复杂） | C38: 产妇难产或不适于阴道分娩，且产妇或胎儿存在情况复杂、风险较高等情况，通过手术方式分娩接生及新生儿处理的全过程处置 | D38: 所定价格涵盖复杂情况通过手术娩出胎儿的全过程和必要操作，包括切开子宫、娩出胎儿、胎盘处理、清理缝合、止血包扎处理等手术全过程，新生儿的观察、处理、评分及记录等所需的人力资源和基本物质资源消耗 | E38: 胎/次 | F38: 2328 | G38: 2095.2 | H38: 1885.68 | I38: =VLOOKUP(B38,[1]产科类!$B$4:$BC$78,54,FALSE) -> 1697.112 | J38: 1.“剖宫产（复杂）”是指：产妇或胎儿存在前置胎盘、胎盘植入、凝血功能异常、子宫肌瘤（4-5cm以上）、瘢痕子宫、胎儿横位、胎儿臀位、产程中剖宫产、腹膜外妊娠等显著增加剖宫产实施难度及风险的情况； 2.特殊脐带夹可单独按照实际采购价格零差率销售 | K38: 甲
A39: 013314000040001 | B39: 剖宫产（复杂）-阴道分娩转剖宫产（加收） | C39: 产妇难产或不适于阴道分娩，阴道分娩转剖宫产，且产妇或胎儿存在情况复杂、风险较高等情况，通过手术方式分娩接生及新生儿处理的全过程处置 | E39: 次 | F39: 275 | G39: 247.5 | H39: 222.75 | I39: =H39*0.9 -> 200.475 | J39: 无论多少胎次仅收取一次 | K39: 甲
A40: 013314000050000 | B40: 宫颈环扎术（常规） | C40: 对宫颈机能不全的治疗，达到延长孕周，维持胎儿存活目的 | D40: 所定价格涵盖消毒、宫颈固定、缝合、拆线，必要时胎膜复位等宫颈环扎术所有必要操作所需的人力资源和基本物质资源消耗 | E40: 次 | F40: 499 | G40: 449.1 | H40: 404.19 | I40: =VLOOKUP(B40,[1]产科类!$B$4:$BC$78,54,FALSE) -> 363.771 | K40: 甲
...
